BEGIN:VCALENDAR
VERSION:2.0
PRODID:-//Podemos Leganés - ECPv6.8.3//NONSGML v1.0//EN
CALSCALE:GREGORIAN
METHOD:PUBLISH
X-WR-CALNAME:Podemos Leganés
X-ORIGINAL-URL:https://podemosleganes.es
X-WR-CALDESC:Eventos para Podemos Leganés
REFRESH-INTERVAL;VALUE=DURATION:PT1H
X-Robots-Tag:noindex
X-PUBLISHED-TTL:PT1H
BEGIN:VTIMEZONE
TZID:Europe/Madrid
BEGIN:DAYLIGHT
TZOFFSETFROM:+0100
TZOFFSETTO:+0200
TZNAME:CEST
DTSTART:20240331T010000
END:DAYLIGHT
BEGIN:STANDARD
TZOFFSETFROM:+0200
TZOFFSETTO:+0100
TZNAME:CET
DTSTART:20241027T010000
END:STANDARD
END:VTIMEZONE
BEGIN:VEVENT
DTSTART;TZID=Europe/Madrid:20240302T110000
DTEND;TZID=Europe/Madrid:20240302T130000
DTSTAMP:20260424T095013
CREATED:20240228T195322Z
LAST-MODIFIED:20240228T195322Z
UID:336530-1709377200-1709384400@podemosleganes.es
SUMMARY:FEMINISTAS POR LA PAZ (ACTO)
DESCRIPTION:🟣 ATENCIÓN MADRID: ¡ACTO FEMINISTAS POR LA PAZ! 🟣    \nEste sábado\, la Fundación República y Democracia en colaboración con The Left organiza un encuentro por un horizonte de paz\, de justicia y de dignidad para nuestros pueblos.   \nEste 8M\, frente a la cultura patriarcal de guerra\, vencerá una cultura feminista de paz. \n🎤  Dará la bienvenida al acto 💜 Esther Sanz\, lo presentará 💜 Beatriz Gimeno… ¡y aquí están las ponentes! 👇 \n💜 Ione Belarra\n💜 Irene Montero\n💜 Isa Serra\n💜 Mar Cambrollé\n💜 Cristina Fallarás \nY\, además:\n💜 Amira Cheikh Ali\, activista y abogada hispano-palestina.\n💜 Niveen Massou\, miembro del Womens Studies Centre en Palestina.\n💜 Jadiyetu El Mohtar\, delegada saharaui en la Comunidad de Madrid y miembro de la Unión Nacional de Mujeres Saharauis. \n🗓️ ¿Cuándo? Sábado 2 de marzo\n🕐 ¿A qué hora? A las 11:00\n📍 ¿Dónde? En el Espacio Próxima Estación de Madrid (calle de Aniceto Marinas\, 10)
URL:https://podemosleganes.es/event/feministas-por-la-paz-acto/
CATEGORIES:8 M,evento político,Feminismo
ATTACH;FMTTYPE=image/png:https://podemosleganes.es/wp-content/uploads/2024/02/2-de-marzo-feministas-por-la-paz.png
END:VEVENT
BEGIN:VEVENT
DTSTART;TZID=Europe/Madrid:20240302T173000
DTEND;TZID=Europe/Madrid:20240302T190000
DTSTAMP:20260424T095013
CREATED:20240229T203959Z
LAST-MODIFIED:20240229T203959Z
UID:336541-1709400600-1709406000@podemosleganes.es
SUMMARY:CADENA FEMINISTA POR PALESTINA (Comisión 8M)
DESCRIPTION:Cadena Feminista por Palestina\, Comisión 8M Madrid \nEste 2024\, como parte de las acciones del 8M\, nos unimos al grito global que denuncia el genocidio que el Estado de Israel está cometiendo contra el pueblo palestino mediante la Cadena Feminista por Palestina.\nSábado 2 de marzo Hora: 17:30h\nDesde Comisión Europea (C/ Castellana 46)-> Embajada EEUU (C/Serrano 75)-> Embajada de Israel (C/Velázquez 150). \nFORMULARIO INSCRIPCION CADENA FEMINISTA PALESTINA: https://forms.gle/ZMxsFgcyoYfbMnqE8 \nSeremos más de 3000 mujeres y disidencias en solidaridad con el pueblo palestino y con nuestras hermanas palestinas. \nConvoca: Comisión 8M del Movimiento Feminista de Madrid. \n  \n⚡️🏫El lugar de quedada de nuestro Tramo 7 es la esquina de Calle Serrano 120 con Calle General Orá. \n📣🕠Nos vemos allí a las 17:30 horas\, 5:30 de la tarde del día 2 de marzo\, sábado. \n🚺♀️No te olvides de avisar a todas tus amigas y vecinas.\nRecordad que en esta acción han pedido que NO LLEVEMOS INSIGNIAS de partidos políticos.\nNo llevemos ningún tipo de insignia de Podemos. NI CHAPAS\, 😊 que todas tenemos chapas por doquier\, en la cadena no llevemos nada de esto\, porfa. \nEs una acción para apoyar y visibilizar la causa Palestina y las compas del 8M han hecho hincapié en este punto.
URL:https://podemosleganes.es/event/cadena-feminista-por-palestina-comision-8m/
CATEGORIES:8 M,evento político,Feminismo,manifestaciones,movimiento social
ATTACH;FMTTYPE=image/jpeg:https://podemosleganes.es/wp-content/uploads/2024/02/cadena-feminista.jpg
END:VEVENT
BEGIN:VEVENT
DTSTART;TZID=Europe/Madrid:20240307T183000
DTEND;TZID=Europe/Madrid:20240307T203000
DTSTAMP:20260424T095013
CREATED:20240228T211945Z
LAST-MODIFIED:20240228T211945Z
UID:336537-1709836200-1709843400@podemosleganes.es
SUMMARY:EL CONSENTIMIENTO EN EL CENTRO (acto en el sur)
DESCRIPTION:EL CONSENTIMIENTO EN EL CENTRO.\nCompañeras/os tenemos un acto feminista en Leganés\,  el día 7 de marzo a las 18:30 horas.\nOs invitamos debatir sobre:\nAvances en materia de libertad sexual.\nDesarrollo de la ley\, protocolos.\nQue son los centros de crisis.\nQue lugar ocupa lo penal\nTodo esto y más. \nDía: 7 de marzo\nHora :18:30\nLugar: Centro Municipal Las Dehesillas\nDirección: Av. del Museo 4\, Leganés\nhttps://x.com/PodemosLeganes/status/1762940019377844359?t=XC-g0sxlmoI1pJKbV6-Hdg&s=08
URL:https://podemosleganes.es/event/el-consentimiento-en-el-centro-acto-en-el-sur/
LOCATION:Centro Mucipal la Dehesillas\, Av. Museo 4\, Leganés\, Madrid\, 28915\, España
CATEGORIES:Acto,blog,Feminismo
ATTACH;FMTTYPE=image/jpeg:https://podemosleganes.es/wp-content/uploads/2024/02/el-consentimiento-en-el-centro.jpg
END:VEVENT
BEGIN:VEVENT
DTSTART;TZID=Europe/Madrid:20240308T183000
DTEND;TZID=Europe/Madrid:20240308T203000
DTSTAMP:20260424T095013
CREATED:20240305T160742Z
LAST-MODIFIED:20240305T160742Z
UID:336564-1709922600-1709929800@podemosleganes.es
SUMMARY:8 M 2024 FEMINISTAS POR LA PAZ
DESCRIPTION:👭 En Madrid\, queremos ir juntas a la manifestación convocada por la Comisión 8M con recorrido desde Atocha hasta Colón\, y hacerlo con nuestra pancarta 👉 Para unirte\, ven al 🟣 ENCUENTRO CON PODEMOS 🟣 \n🕡 ¿Cuándo quedamos? El viernes 8 de marzo a las 18:30\n📍 ¿Dónde nos vemos? En el Monumento a Velázquez (Paseo del Prado\, 11) \n💜 Este año más que nunca\, somos feministas por la paz 💜 \n📲 ¡Comparte y difunde el cartel\, y que no falte nadie!
URL:https://podemosleganes.es/event/8-m-2024-feministas-por-la-paz/
CATEGORIES:8 M,Feminismo,manifestaciones
ATTACH;FMTTYPE=image/jpeg:https://podemosleganes.es/wp-content/uploads/2024/03/feministas-por-la-Paz.jpg
END:VEVENT
BEGIN:VEVENT
DTSTART;TZID=Europe/Madrid:20240313T183000
DTEND;TZID=Europe/Madrid:20240313T193000
DTSTAMP:20260424T095013
CREATED:20240311T223205Z
LAST-MODIFIED:20240311T223205Z
UID:336576-1710354600-1710358200@podemosleganes.es
SUMMARY:CONCENTRACIÓN SANIDAD PÚBLICA DE MADRID
DESCRIPTION:Vecinas de Barrios y Pueblos de Madrid organizan unas “Jornadas por la Sanidad Pública en Madrid” • El espacio convocante de las grandes manifestaciones de noviembre y febrero\, y la Consulta Popular por la Sanidad\, organiza estas jornadas en las que prevee reunir a cientos de personas los días 6\, 7 y 8 de octubre. • Participarán colectivos en defensa de la sanidad\, activistas\, sanitarios y sindicatos. • El objetivo es hacer balance de las distintas movilizaciones de estos dos años (huelgas\, manifestaciones\, concentraciones) y relanzar nuevas movilizaciones\, así como fortalecer lazos entre vecinas y trabajadoras de la sanidad pública. Vecinas y vecinos de Barrios y Pueblos de Madrid\, el espacio que aglutina a decenas de asambleas y plataformas en defensa de la Sanidad Pública madrileña\, y que fue el impulsor de las grandes movilizaciones de noviembre de 2022 y febrero de 2023\, convoca en octubre unas Jornadas por la Sanidad Pública en Madrid. “La Sanidad Pública en la Comunidad de Madrid sufre un deterioro progresivo desde hace tiempo que se va acelerando por momentos. Los motivos principales son: la privatización de los servicios\, los recortes presupuestarios y el desvío de fondos públicos hacia intereses privados” dicen desde el espacio convocante. \nLos impulsores creen que “es necesario y urgente que todos los afectados\, usuarios y personal sanitario\, analicemos la problemática a fondo y organicemos propuestas para frenar esta avalancha de deterioro y privatizaciones”. Después de unos meses de intensas movilizaciones\, desde concentraciones barriales\, huelgas sanitarias y dos gigantescas manifestaciones\, los convocantes creen que es el momento de reforzar la coordinación de usuarias y profesionales\, repasando sus experiencias y preparando un nuevo ciclo de lucha. “La movilización ha sido muy intensa y su éxito innegable\, ha puesto contra las cuerdas al gobierno de Ayuso. Pero no ha sido suficiente\, la situación de la sanidad pública sigue siendo crítica y tenemos que preparar colectivamente un nuevo plan de lucha”. Para ello Vecinas y vecinos de Barrios y Pueblos convocan estas jornadas “de encuentro y reflexión\, que pretenden apuntar ideas y propuestas que nos sean útiles y evitar que este deterioro avance”. En ellas se combinarán ponencias con espacios de debate y encuentro para todas las asistentes.
URL:https://podemosleganes.es/event/concentracion-sanidad-publica-de-madrid/
CATEGORIES:manifestaciones,Sanidad Pública
ATTACH;FMTTYPE=image/jpeg:https://podemosleganes.es/wp-content/uploads/2024/03/sanidad-publica-13-de-marzo.jpg
END:VEVENT
BEGIN:VEVENT
DTSTART;TZID=Europe/Madrid:20240316T183000
DTEND;TZID=Europe/Madrid:20240316T210000
DTSTAMP:20260424T095013
CREATED:20240224T155001Z
LAST-MODIFIED:20240224T155001Z
UID:336514-1710613800-1710622800@podemosleganes.es
SUMMARY:MÚSICA EN RED PARA PALESTINA (Red Ciudadana de Acogida Leganés)
DESCRIPTION:🎼🎼🎸🎸¡¡Llega Música en Red por Palestina!! \nAnte la inacción de buena parte de la comunidad internacional y el bloqueo de los fondos para la ayuda humanitaria que suministra la UNRWA\, vecinas de Leganés se han organizado para tejer un festival que recaudará fondos para el pueblo palestino\, masacrado por el Estado genocida de Israel. \n🦾🦾Te esperamos el próximo 16 de marzo en el Teatro Egaleo. \n🔥🔥Contaremos con la rapera feminista La Furia\, llegada desde Bilbao para la ocasión. \n🎸🎸Además habrá grupazos locales como Sin Salida y Palabras Necesias y el grupo tributo a Extremoduro Iros Todos a tomar por culo (y más sorpresas) \n🧾¡Pilla tu entrada en entradium o en los puntos de venta que indica el cartel A PARTIR DE ESTE JUEVES 22 de febrero!\nPD: Menores de 10 años\, gratis \nhttps://www.facebook.com/reel/780294380812484
URL:https://podemosleganes.es/event/musica-en-red-para-palestina-red-ciudadana-de-acogida-leganes/
LOCATION:Teatro Egaleo\, Dirección Avenida del Rey Juan Carlos I\, 10\, 28915 Leganés\, Madrid\, Spain\, Leganés\, Madrid\, 28912\, España
CATEGORIES:Actividad Cultural,movimiento social
ATTACH;FMTTYPE=image/jpeg:https://podemosleganes.es/wp-content/uploads/2024/02/musica-en-red-para-Palestina.jpg
END:VEVENT
BEGIN:VEVENT
DTSTART;TZID=Europe/Madrid:20240320T180000
DTEND;TZID=Europe/Madrid:20240320T200000
DTSTAMP:20260424T095013
CREATED:20240317T223729Z
LAST-MODIFIED:20240317T223729Z
UID:336586-1710957600-1710964800@podemosleganes.es
SUMMARY:PLENARIO ORDINARIO 20 de marzo de 2024
DESCRIPTION:PLENARIO ORDINARIO \nDía: 20 de marzo \nHora: 18:00h \nLugar: sede de Podemos Leganés (Travesía de Madrid 4) \n  \n1— Aprobación de actas.\n2— Informes:\nLocal\, inauguración\,apertura\, etc.\n3— Información del Grupo Municipal y CCM\n4— Calendario electoral.\nPresentación de candidaturas.\n5—Mociones\, ruegos y preguntas para el próximo pleno municipal.\n6— Varios.
URL:https://podemosleganes.es/event/plenario-ordinario-20-de-marzo-de-2024/
LOCATION:Sede Podemos Leganés\, Travesía de Madrid\, 4\, Leganés
CATEGORIES:plenario,Podemos Leganés
ATTACH;FMTTYPE=image/png:https://podemosleganes.es/wp-content/uploads/2024/03/plen-20-m-2024.png
END:VEVENT
END:VCALENDAR