BEGIN:VCALENDAR
VERSION:2.0
PRODID:-//Podemos Leganés - ECPv6.8.3//NONSGML v1.0//EN
CALSCALE:GREGORIAN
METHOD:PUBLISH
X-ORIGINAL-URL:https://podemosleganes.es
X-WR-CALDESC:Eventos para Podemos Leganés
REFRESH-INTERVAL;VALUE=DURATION:PT1H
X-Robots-Tag:noindex
X-PUBLISHED-TTL:PT1H
BEGIN:VTIMEZONE
TZID:Europe/Madrid
BEGIN:DAYLIGHT
TZOFFSETFROM:+0100
TZOFFSETTO:+0200
TZNAME:CEST
DTSTART:20220327T010000
END:DAYLIGHT
BEGIN:STANDARD
TZOFFSETFROM:+0200
TZOFFSETTO:+0100
TZNAME:CET
DTSTART:20221030T010000
END:STANDARD
END:VTIMEZONE
BEGIN:VEVENT
DTSTART;TZID=Europe/Madrid:20220407T100000
DTEND;TZID=Europe/Madrid:20220407T123000
DTSTAMP:20260424T191805
CREATED:20220405T144124Z
LAST-MODIFIED:20220405T144124Z
UID:334411-1649325600-1649334600@podemosleganes.es
SUMMARY:Mesa Informativa
DESCRIPTION:El jueves 7 de Abril\, os esperamos en nuestra “Mesa Informativa”\, situada en el Hospital Severo Ochoa de 10 a 12.30h\, por el #diamundialdelasalud.\n¡Pasa e infórmate!
URL:https://podemosleganes.es/event/mesa-informativa-07-04/
LOCATION:hospital severo ochoa
CATEGORIES:Eventos
END:VEVENT
BEGIN:VEVENT
DTSTART;TZID=Europe/Madrid:20220419T180000
DTEND;TZID=Europe/Madrid:20220419T200000
DTSTAMP:20260424T191805
CREATED:20220415T183609Z
LAST-MODIFIED:20220415T183609Z
UID:334428-1650391200-1650398400@podemosleganes.es
SUMMARY:Plenario Ordinario
DESCRIPTION:El Plenario Ordinario se celebrará el próximo martes\n19 de abril de 2022 en nuestra sede\, Travesía de Madrid 4\, a las 18:00\nhoras con el siguiente: \nOrden del día: \n1. Aprobación del Acta anterior \n2. Gestión de conflictos y desacuerdos \n3. Caseta durante las próximas fiestas de La Fortuna \n4. Hoja de ruta del proceso de encuentro con la ciudadanía \n5. Mociones a llevar al Pleno de abril \n6. Varios
URL:https://podemosleganes.es/event/plenario-ordinario/
CATEGORIES:Asamblea,Eventos
END:VEVENT
BEGIN:VEVENT
DTSTART;TZID=Europe/Madrid:20220420T180000
DTEND;TZID=Europe/Madrid:20220420T200000
DTSTAMP:20260424T191805
CREATED:20220419T105827Z
LAST-MODIFIED:20220426T214345Z
UID:334483-1650477600-1650484800@podemosleganes.es
SUMMARY:mujeres y politica
DESCRIPTION:https://podemosleganes.es/blog-de-podemos-leganes/mujeres-y-politica/
URL:https://podemosleganes.es/event/mujeres-y-politica/
CATEGORIES:Eventos,Podemos Leganés
END:VEVENT
BEGIN:VEVENT
DTSTART;TZID=Europe/Madrid:20220423T170000
DTEND;TZID=Europe/Madrid:20220423T200000
DTSTAMP:20260424T191805
CREATED:20220419T104904Z
LAST-MODIFIED:20220426T214028Z
UID:334477-1650733200-1650744000@podemosleganes.es
SUMMARY:FIESTA DEL DÍA DEL LIBRO: Magos\, talleres\, música\, cuentacuentos
DESCRIPTION:https://podemosleganes.es/blog-de-podemos-leganes/fiesta-del-dia-del-libro-magos-talleres-musica-cuentacuentos/
URL:https://podemosleganes.es/event/fiesta-del-dia-del-libro-magos-talleres-musica-cuentacuentos/
CATEGORIES:Eventos,Podemos Leganés
END:VEVENT
BEGIN:VEVENT
DTSTART;TZID=Europe/Madrid:20220429T103000
DTEND;TZID=Europe/Madrid:20220429T130000
DTSTAMP:20260424T191805
CREATED:20220426T193732Z
LAST-MODIFIED:20220428T161400Z
UID:334498-1651228200-1651237200@podemosleganes.es
SUMMARY:MESA INFORMATIVA 29 abril\, mercadillo en Av de Gibraltar
DESCRIPTION:Juan Muñoz 26 /03/2022\nEste viernes 29 de abril desde las 10:30 hasta las 13:00 estaremos en el mercadillo por la Av. Gibraltar informando sobre las nuevas bandas de resalte que están provocando muchos problemas a l@s vecin@s.
URL:https://podemosleganes.es/event/mesa-informativa-27-abril-mercadillo-en-av-de-gibraltar/
CATEGORIES:Eventos,Podemos Leganés
END:VEVENT
END:VCALENDAR