BEGIN:VCALENDAR
VERSION:2.0
PRODID:-//Podemos Leganés - ECPv6.8.3//NONSGML v1.0//EN
CALSCALE:GREGORIAN
METHOD:PUBLISH
X-ORIGINAL-URL:https://podemosleganes.es
X-WR-CALDESC:Eventos para Podemos Leganés
REFRESH-INTERVAL;VALUE=DURATION:PT1H
X-Robots-Tag:noindex
X-PUBLISHED-TTL:PT1H
BEGIN:VTIMEZONE
TZID:Europe/Madrid
BEGIN:DAYLIGHT
TZOFFSETFROM:+0100
TZOFFSETTO:+0200
TZNAME:CEST
DTSTART:20220327T010000
END:DAYLIGHT
BEGIN:STANDARD
TZOFFSETFROM:+0200
TZOFFSETTO:+0100
TZNAME:CET
DTSTART:20221030T010000
END:STANDARD
END:VTIMEZONE
BEGIN:VEVENT
DTSTART;TZID=Europe/Madrid:20221104T120000
DTEND;TZID=Europe/Madrid:20221104T233000
DTSTAMP:20260425T002345
CREATED:20221102T231410Z
LAST-MODIFIED:20221102T231410Z
UID:335204-1667563200-1667604600@podemosleganes.es
SUMMARY:RESULTADOS PRIMARIAS 2022
DESCRIPTION:RESULTADOS DE LAS PRIMARIAS 2022 \n 
URL:https://podemosleganes.es/event/resultados-primarias-2022/
CATEGORIES:Eventos
ATTACH;FMTTYPE=image/png:https://podemosleganes.es/wp-content/uploads/2022/11/PRIM2022.png
END:VEVENT
END:VCALENDAR