BEGIN:VCALENDAR
VERSION:2.0
PRODID:-//Podemos Leganés - ECPv6.8.3//NONSGML v1.0//EN
CALSCALE:GREGORIAN
METHOD:PUBLISH
X-WR-CALNAME:Podemos Leganés
X-ORIGINAL-URL:https://podemosleganes.es
X-WR-CALDESC:Eventos para Podemos Leganés
REFRESH-INTERVAL;VALUE=DURATION:PT1H
X-Robots-Tag:noindex
X-PUBLISHED-TTL:PT1H
BEGIN:VTIMEZONE
TZID:Europe/Madrid
BEGIN:DAYLIGHT
TZOFFSETFROM:+0100
TZOFFSETTO:+0200
TZNAME:CEST
DTSTART:20260329T010000
END:DAYLIGHT
BEGIN:STANDARD
TZOFFSETFROM:+0200
TZOFFSETTO:+0100
TZNAME:CET
DTSTART:20261025T010000
END:STANDARD
END:VTIMEZONE
BEGIN:VEVENT
DTSTART;TZID=Europe/Madrid:20260325T180000
DTEND;TZID=Europe/Madrid:20260325T200000
DTSTAMP:20260419T190906
CREATED:20260323T211524Z
LAST-MODIFIED:20260323T211524Z
UID:338169-1774461600-1774468800@podemosleganes.es
SUMMARY:PLENARIO ORDINARIO
DESCRIPTION:Este próximo miércoles 25 de marzo celebramos plenario de militantes de Podemos Leganés. Será a las 18:00 horas.\nNos vemos para hablar de la actualidad política\, tanto a nivel local como autonómico y estatal. Con el siguiente orden del día:\n\n1.- Aprobación\, si procede\, del acta del plenario del 28 de enero de 2026\n2.- Reflexiones sobre actualidad política local y política general\n3.- Acción política del Círculo de Podemos Leganés.\n4.- Información sobre Regularización de Personas Migrantes\n5.- Varios
URL:https://podemosleganes.es/event/plenario-ordinario-16/
LOCATION:Sede Podemos Leganés\, Travesía de Madrid\, 4\, Leganés
CATEGORIES:blog,plenario
ATTACH;FMTTYPE=image/png:https://podemosleganes.es/wp-content/uploads/2026/03/plenario-20260325.png
END:VEVENT
END:VCALENDAR