BEGIN:VCALENDAR
VERSION:2.0
PRODID:-//Podemos Leganés - ECPv6.8.3//NONSGML v1.0//EN
CALSCALE:GREGORIAN
METHOD:PUBLISH
X-WR-CALNAME:Podemos Leganés
X-ORIGINAL-URL:https://podemosleganes.es
X-WR-CALDESC:Eventos para Podemos Leganés
REFRESH-INTERVAL;VALUE=DURATION:PT1H
X-Robots-Tag:noindex
X-PUBLISHED-TTL:PT1H
BEGIN:VTIMEZONE
TZID:Europe/Madrid
BEGIN:DAYLIGHT
TZOFFSETFROM:+0100
TZOFFSETTO:+0200
TZNAME:CEST
DTSTART:20250330T010000
END:DAYLIGHT
BEGIN:STANDARD
TZOFFSETFROM:+0200
TZOFFSETTO:+0100
TZNAME:CET
DTSTART:20251026T010000
END:STANDARD
END:VTIMEZONE
BEGIN:VEVENT
DTSTART;TZID=Europe/Madrid:20250211T180000
DTEND;TZID=Europe/Madrid:20250211T200000
DTSTAMP:20260422T191356
CREATED:20250203T221326Z
LAST-MODIFIED:20250203T221326Z
UID:337284-1739296800-1739304000@podemosleganes.es
SUMMARY:Jornadas sobre la historia de Leganés: LEGANÉS EN LA REPÚBLICA
DESCRIPTION:Cincuenta años en la Historia de Leganés. De la II República\, pasando por la Dictadura franquista (donde llega la victoria de los sublevados y no la paz. La posguerra con fusilamientos\, años de hambre\, represión política y social)\, el tardofranquismo con la puesta en escena de escarceos de la oposición franquista y la democracia municipal en las urnas cincuenta años después del 12 de abril de 1931.
URL:https://podemosleganes.es/event/jornadas-sobre-la-historia-de-leganes-leganes-en-la-republica/
LOCATION:Sede Podemos Leganés\, Travesía de Madrid\, 4\, Leganés
CATEGORIES:blog,Forum,Jornadas La historia de Leganés
ATTACH;FMTTYPE=image/gif:https://podemosleganes.es/wp-content/uploads/2025/02/jornadas-historia-w.gif
END:VEVENT
END:VCALENDAR