BEGIN:VCALENDAR
VERSION:2.0
PRODID:-//Podemos Leganés - ECPv6.8.3//NONSGML v1.0//EN
CALSCALE:GREGORIAN
METHOD:PUBLISH
X-WR-CALNAME:Podemos Leganés
X-ORIGINAL-URL:https://podemosleganes.es
X-WR-CALDESC:Eventos para Podemos Leganés
REFRESH-INTERVAL;VALUE=DURATION:PT1H
X-Robots-Tag:noindex
X-PUBLISHED-TTL:PT1H
BEGIN:VTIMEZONE
TZID:Europe/Madrid
BEGIN:DAYLIGHT
TZOFFSETFROM:+0100
TZOFFSETTO:+0200
TZNAME:CEST
DTSTART:20190331T010000
END:DAYLIGHT
BEGIN:STANDARD
TZOFFSETFROM:+0200
TZOFFSETTO:+0100
TZNAME:CET
DTSTART:20191027T010000
END:STANDARD
END:VTIMEZONE
BEGIN:VEVENT
DTSTART;TZID=Europe/Madrid:20191120T190000
DTEND;TZID=Europe/Madrid:20191120T203000
DTSTAMP:20260423T111543
CREATED:20191119T091929Z
LAST-MODIFIED:20191119T091929Z
UID:332357-1574276400-1574281800@podemosleganes.es
SUMMARY:Presentación de FRANQUISMO S.A.
DESCRIPTION:Con su autor Antonio Maestre y Manuela Bergerot. \nLa lectura\, un arma antifascista \nAnte el crecimiento de las opciones políticas fascistas es necesario rearmarse política\, cultural e intelectualmente. Conocer las razones fundamentales por las que aflora descarnada y sin vergüenza el discurso y las actitudes intolerantes y de desprecio a la diversidad y a la pluralidad de opiniones. El 20N nos reuniremos en la Libre de Barrio para hablar de Franquismo S.A.\, el libro de Antonio Maestre que proporciona claves para comprender por qué los lugares de decisión y de poder siguen ocupados por los vencedores de la guerra.\nPorque la mayor resistencia a la reparación histórica no es cultural\, política o moral. Es económica.
URL:https://podemosleganes.es/event/presentacion-de-franquismo-s-a/
LOCATION:Calle Villaverde\, 4\, Leganés\, 28912
CATEGORIES:Eventos
ATTACH;FMTTYPE=image/jpeg:https://podemosleganes.es/wp-content/uploads/2019/11/photo5951840420826820694.jpg
END:VEVENT
END:VCALENDAR