BEGIN:VCALENDAR
VERSION:2.0
PRODID:-//Podemos Leganés - ECPv6.8.3//NONSGML v1.0//EN
CALSCALE:GREGORIAN
METHOD:PUBLISH
X-WR-CALNAME:Podemos Leganés
X-ORIGINAL-URL:https://podemosleganes.es
X-WR-CALDESC:Eventos para Podemos Leganés
REFRESH-INTERVAL;VALUE=DURATION:PT1H
X-Robots-Tag:noindex
X-PUBLISHED-TTL:PT1H
BEGIN:VTIMEZONE
TZID:Europe/Madrid
BEGIN:DAYLIGHT
TZOFFSETFROM:+0100
TZOFFSETTO:+0200
TZNAME:CEST
DTSTART:20230326T010000
END:DAYLIGHT
BEGIN:STANDARD
TZOFFSETFROM:+0200
TZOFFSETTO:+0100
TZNAME:CET
DTSTART:20231029T010000
END:STANDARD
END:VTIMEZONE
BEGIN:VEVENT
DTSTART;TZID=Europe/Madrid:20230501T120000
DTEND;TZID=Europe/Madrid:20230501T140000
DTSTAMP:20260423T225224
CREATED:20230430T202820Z
LAST-MODIFIED:20230430T202820Z
UID:336052-1682942400-1682949600@podemosleganes.es
SUMMARY:1ro MAYO\, DÍA DEL TRABAJO\, manifestación
DESCRIPTION:Como todos los años\, nos reuniremos en Madrid para celebrar el Día del TRABAJO\, y seguir reivindicando nuestros derechos laborales y sociales.
URL:https://podemosleganes.es/event/1ro-mayo-dia-del-trabajo-manifestacion/
CATEGORIES:evento político,manifestaciones
ATTACH;FMTTYPE=image/jpeg:https://podemosleganes.es/wp-content/uploads/2023/04/1-mayo.jpg
END:VEVENT
END:VCALENDAR