BEGIN:VCALENDAR
VERSION:2.0
PRODID:-//Podemos Leganés - ECPv6.8.3//NONSGML v1.0//EN
CALSCALE:GREGORIAN
METHOD:PUBLISH
X-ORIGINAL-URL:https://podemosleganes.es
X-WR-CALDESC:Eventos para Podemos Leganés
REFRESH-INTERVAL;VALUE=DURATION:PT1H
X-Robots-Tag:noindex
X-PUBLISHED-TTL:PT1H
BEGIN:VTIMEZONE
TZID:Europe/Madrid
BEGIN:DAYLIGHT
TZOFFSETFROM:+0100
TZOFFSETTO:+0200
TZNAME:CEST
DTSTART:20210328T010000
END:DAYLIGHT
BEGIN:STANDARD
TZOFFSETFROM:+0200
TZOFFSETTO:+0100
TZNAME:CET
DTSTART:20211031T010000
END:STANDARD
END:VTIMEZONE
BEGIN:VEVENT
DTSTART;TZID=Europe/Madrid:20210103T080000
DTEND;TZID=Europe/Madrid:20210103T170000
DTSTAMP:20260419T193017
CREATED:20210103T180633Z
LAST-MODIFIED:20210103T180633Z
UID:333831-1609660800-1609693200@podemosleganes.es
SUMMARY:CONCENTRACIÓN: Por justicia\, responsabilidades. Por dignidad\, derechos humanos.
DESCRIPTION:El próximo lunes 4 de enero la Marea de Residencias llama a concentrarse a las puertas de la Gran Residencia. \nC./ General Ricardos\, 177 -Madrid)\n17H \n“Si nos unimos haremos que esta hecatombe vivida por nuestros familiares no quede impune” ÚNETE
URL:https://podemosleganes.es/event/marea-residencias/
LOCATION:GRAN RESIDENCIA (Carabanchel)\, C./ General Ricardos 177\, Madrid\, Madrid\, España
CATEGORIES:Eventos
ATTACH;FMTTYPE=image/jpeg:https://podemosleganes.es/wp-content/uploads/2021/01/MareaResidencias.jpg
ORGANIZER;CN="Marea Residencias":MAILTO:mareaderesidencias@gmail.com
END:VEVENT
END:VCALENDAR