BEGIN:VCALENDAR
VERSION:2.0
PRODID:-//Podemos Leganés - ECPv6.8.3//NONSGML v1.0//EN
CALSCALE:GREGORIAN
METHOD:PUBLISH
X-ORIGINAL-URL:https://podemosleganes.es
X-WR-CALDESC:Eventos para Podemos Leganés
REFRESH-INTERVAL;VALUE=DURATION:PT1H
X-Robots-Tag:noindex
X-PUBLISHED-TTL:PT1H
BEGIN:VTIMEZONE
TZID:Europe/Madrid
BEGIN:DAYLIGHT
TZOFFSETFROM:+0100
TZOFFSETTO:+0200
TZNAME:CEST
DTSTART:20240331T010000
END:DAYLIGHT
BEGIN:STANDARD
TZOFFSETFROM:+0200
TZOFFSETTO:+0100
TZNAME:CET
DTSTART:20241027T010000
END:STANDARD
END:VTIMEZONE
BEGIN:VEVENT
DTSTART;TZID=Europe/Madrid:20240320T180000
DTEND;TZID=Europe/Madrid:20240320T200000
DTSTAMP:20260424T155103
CREATED:20240317T223729Z
LAST-MODIFIED:20240317T223729Z
UID:336586-1710957600-1710964800@podemosleganes.es
SUMMARY:PLENARIO ORDINARIO 20 de marzo de 2024
DESCRIPTION:PLENARIO ORDINARIO \nDía: 20 de marzo \nHora: 18:00h \nLugar: sede de Podemos Leganés (Travesía de Madrid 4) \n  \n1— Aprobación de actas.\n2— Informes:\nLocal\, inauguración\,apertura\, etc.\n3— Información del Grupo Municipal y CCM\n4— Calendario electoral.\nPresentación de candidaturas.\n5—Mociones\, ruegos y preguntas para el próximo pleno municipal.\n6— Varios.
URL:https://podemosleganes.es/event/plenario-ordinario-20-de-marzo-de-2024/
LOCATION:Sede Podemos Leganés\, Travesía de Madrid\, 4\, Leganés
CATEGORIES:plenario,Podemos Leganés
ATTACH;FMTTYPE=image/png:https://podemosleganes.es/wp-content/uploads/2024/03/plen-20-m-2024.png
END:VEVENT
END:VCALENDAR