BEGIN:VCALENDAR
VERSION:2.0
PRODID:-//Podemos Leganés - ECPv6.8.3//NONSGML v1.0//EN
CALSCALE:GREGORIAN
METHOD:PUBLISH
X-ORIGINAL-URL:https://podemosleganes.es
X-WR-CALDESC:Eventos para Podemos Leganés
REFRESH-INTERVAL;VALUE=DURATION:PT1H
X-Robots-Tag:noindex
X-PUBLISHED-TTL:PT1H
BEGIN:VTIMEZONE
TZID:Europe/Madrid
BEGIN:DAYLIGHT
TZOFFSETFROM:+0100
TZOFFSETTO:+0200
TZNAME:CEST
DTSTART:20250330T010000
END:DAYLIGHT
BEGIN:STANDARD
TZOFFSETFROM:+0200
TZOFFSETTO:+0100
TZNAME:CET
DTSTART:20251026T010000
END:STANDARD
END:VTIMEZONE
BEGIN:VEVENT
DTSTART;TZID=Europe/Madrid:20250410T180000
DTEND;TZID=Europe/Madrid:20250410T200000
DTSTAMP:20260422T011050
CREATED:20250408T214659Z
LAST-MODIFIED:20250408T214659Z
UID:337462-1744308000-1744315200@podemosleganes.es
SUMMARY:VERGÜENZA el ESCÁNDALO de las RESIDENCIAS presentación del libro y fórum
DESCRIPTION:📖 Presentación del libro “¡Vergüenza! El escándalo de las residencias”\n🗣 Mesa redonda con Manuel Rico – Marea de Residencias – Podemos Madrid\n📅 Jueves 10 de abril – 18:00h\n📍 Salón DeJóvenes\nPlaza de España s/n #Leganes \nEl libro ¡Vergüenza! El escándalo de las residencias (2021) del periodista Manuel Rico denuncia la gestión negligente de las residencias de mayores en España\, especialmente durante la pandemia de COVID-19. Mediante investigación rigurosa\, expone casos de precariedad\, desatención\, privatización abusiva y falta de control sanitario. Analiza cómo el lucro empresarial y la desidia institucional agravaron la tragedia\, con testimonios estremecedores de familias y trabajadores. Un llamado urgente a reformar el sistema de cuidados y priorizar la dignidad humana.
URL:https://podemosleganes.es/event/verguenza-el-escandalo-de-las-residencias-presentacion-del-libro-y-forum/
LOCATION:CENTRO DEJÓVENES\, Plaza de España 1\, Leganés\, Madrid\, España
CATEGORIES:Cultural,Forum,Podemos Leganés,Presentación de libro,Residencias
ATTACH;FMTTYPE=image/jpeg:https://podemosleganes.es/wp-content/uploads/2025/04/dignidad-libro.jpg
END:VEVENT
END:VCALENDAR