BEGIN:VCALENDAR
VERSION:2.0
PRODID:-//Podemos Leganés - ECPv6.8.3//NONSGML v1.0//EN
CALSCALE:GREGORIAN
METHOD:PUBLISH
X-WR-CALNAME:Podemos Leganés
X-ORIGINAL-URL:https://podemosleganes.es
X-WR-CALDESC:Eventos para Podemos Leganés
REFRESH-INTERVAL;VALUE=DURATION:PT1H
X-Robots-Tag:noindex
X-PUBLISHED-TTL:PT1H
BEGIN:VTIMEZONE
TZID:Europe/Madrid
BEGIN:DAYLIGHT
TZOFFSETFROM:+0100
TZOFFSETTO:+0200
TZNAME:CEST
DTSTART:20250330T010000
END:DAYLIGHT
BEGIN:STANDARD
TZOFFSETFROM:+0200
TZOFFSETTO:+0100
TZNAME:CET
DTSTART:20251026T010000
END:STANDARD
END:VTIMEZONE
BEGIN:VEVENT
DTSTART;TZID=Europe/Madrid:20250122T183000
DTEND;TZID=Europe/Madrid:20250122T203000
DTSTAMP:20260425T015347
CREATED:20250119T192623Z
LAST-MODIFIED:20250119T192623Z
UID:337245-1737570600-1737577800@podemosleganes.es
SUMMARY:Plenario Ordinario
DESCRIPTION:El miércoles 22 de enero de 2025\, a las 18:15 horas en nuestra sede de 📍Travesía de Madrid 4 tendrá lugar un plenario ordinario.  \n📄 Orden del día: \n 1. Aprobación del acta anterior*. \n2. Actualización de la situación política. \n3. Información de próximas actividades. \n4. Varios\, ruegos y preguntas. \n*Se adjuntará en la próxima comunicación antes del plenario. \nDebido a la gran importancia de los temas a tratar\, se ruega la máxima asistencia. \n  \n¡Os esperamos! \n  \nUn abrazo\, \nConsejo de Coordinación Municipal de Podemos Leganés
URL:https://podemosleganes.es/event/plenario-ordinario-10/
LOCATION:Sede Podemos Leganés\, Travesía de Madrid\, 4\, Leganés
CATEGORIES:Asamblea,Podemos Leganés
ATTACH;FMTTYPE=image/png:https://podemosleganes.es/wp-content/uploads/2025/01/plenario-20250122.png
END:VEVENT
END:VCALENDAR