BEGIN:VCALENDAR
VERSION:2.0
PRODID:-//Podemos Leganés - ECPv6.8.3//NONSGML v1.0//EN
CALSCALE:GREGORIAN
METHOD:PUBLISH
X-WR-CALNAME:Podemos Leganés
X-ORIGINAL-URL:https://podemosleganes.es
X-WR-CALDESC:Eventos para Podemos Leganés
REFRESH-INTERVAL;VALUE=DURATION:PT1H
X-Robots-Tag:noindex
X-PUBLISHED-TTL:PT1H
BEGIN:VTIMEZONE
TZID:Europe/Madrid
BEGIN:DAYLIGHT
TZOFFSETFROM:+0100
TZOFFSETTO:+0200
TZNAME:CEST
DTSTART:20240331T010000
END:DAYLIGHT
BEGIN:STANDARD
TZOFFSETFROM:+0200
TZOFFSETTO:+0100
TZNAME:CET
DTSTART:20241027T010000
END:STANDARD
END:VTIMEZONE
BEGIN:VEVENT
DTSTART;TZID=Europe/Madrid:20240617T183000
DTEND;TZID=Europe/Madrid:20240617T203000
DTSTAMP:20260424T145948
CREATED:20240614T204225Z
LAST-MODIFIED:20240614T204225Z
UID:336881-1718649000-1718656200@podemosleganes.es
SUMMARY:Plenario Ordinario
DESCRIPTION:PLENARIO ORDINARIO \nDía: 17 de junio \nHora: 18:30 \nLugar: Sede Podemos Leganés (Travesía de Madrid 4) \nOrden del día: \n\nAprobación de actas anteriores.\nCampaña elecciones al Parlamento Europeo y resultados.\nCaseta Fiestas La Fortuna.\nGrupo Municipal y relación con el CCM.\nVarios.\n\n 
URL:https://podemosleganes.es/event/plenario-ordinario-7/
LOCATION:Sede Podemos Leganés\, Travesía de Madrid\, 4\, Leganés
CATEGORIES:plenario,Podemos Leganés
ATTACH;FMTTYPE=image/png:https://podemosleganes.es/wp-content/uploads/2024/06/plenario-17-jun-24.png
END:VEVENT
END:VCALENDAR