BEGIN:VCALENDAR
VERSION:2.0
PRODID:-//Podemos Leganés - ECPv6.8.3//NONSGML v1.0//EN
CALSCALE:GREGORIAN
METHOD:PUBLISH
X-WR-CALNAME:Podemos Leganés
X-ORIGINAL-URL:https://podemosleganes.es
X-WR-CALDESC:Eventos para Podemos Leganés
REFRESH-INTERVAL;VALUE=DURATION:PT1H
X-Robots-Tag:noindex
X-PUBLISHED-TTL:PT1H
BEGIN:VTIMEZONE
TZID:Europe/Madrid
BEGIN:DAYLIGHT
TZOFFSETFROM:+0100
TZOFFSETTO:+0200
TZNAME:CEST
DTSTART:20250330T010000
END:DAYLIGHT
BEGIN:STANDARD
TZOFFSETFROM:+0200
TZOFFSETTO:+0100
TZNAME:CET
DTSTART:20251026T010000
END:STANDARD
END:VTIMEZONE
BEGIN:VEVENT
DTSTART;TZID=Europe/Madrid:20251110T180000
DTEND;TZID=Europe/Madrid:20251110T200000
DTSTAMP:20260425T154944
CREATED:20251105T221120Z
LAST-MODIFIED:20251105T221120Z
UID:337873-1762797600-1762804800@podemosleganes.es
SUMMARY:PLENARIO ORDINARIO
DESCRIPTION:Desde el CCM del círculo os hacemos llegar la próxima convocatoria del plenario del círculo para seguir debatiendo de la política de Podemos y en concreto de la política a nivel local.  El lunes\, 10 de noviembre. a las 18:00 horas\, en nuestra sede: Travesía de Madrid\, 4.\nOrden del día:\n1.- Aprobación del acta del plenario del 22 de septiembre de 2025.\n2.- Informe político\n3.- Programación actividades\n4.- Información y evaluación de la caseta de San Nicasio\n5.- Comunicación pública del Círculo de Leganés.\n6.- Varios
URL:https://podemosleganes.es/event/plenario-ordinario-14/
LOCATION:Sede Podemos Leganés\, Travesía de Madrid\, 4\, Leganés
CATEGORIES:plenario,Podemos Leganés
ATTACH;FMTTYPE=image/png:https://podemosleganes.es/wp-content/uploads/2025/11/plen-20251110.png
END:VEVENT
BEGIN:VEVENT
DTSTART;TZID=Europe/Madrid:20251119T180000
DTEND;TZID=Europe/Madrid:20251119T200000
DTSTAMP:20260425T154944
CREATED:20251115T131938Z
LAST-MODIFIED:20251115T131938Z
UID:337906-1763575200-1763582400@podemosleganes.es
SUMMARY:Jornadas de debate: PREVISIONES DEL CRECIMIENTO URBANÍSTICO DE LEGANÉS
DESCRIPTION:Comenzamos las Jornadas de Debate sobre el Modelo de Ciudad de Leganés \nEn esta primera sesión hablaremos sobre las previsiones del crecimiento urbanístico de Leganés \n\n\n Miércoles 19 de noviembre – 18:00 h\n Travesía de Madrid 4\, Leganés\n\n\nQueremos construir entre todas y todos una ciudad más habitable\, sostenible y participativa \n# Podemos Leganés
URL:https://podemosleganes.es/event/jornadas-de-debate-previsiones-del-crecimiento-urbanistico-de-leganes/
LOCATION:Sede Podemos Leganés\, Travesía de Madrid\, 4\, Leganés
CATEGORIES:Eventos,Formación,Modelo de ciudad Leganés,Podemos Leganés,Vivienda
ATTACH;FMTTYPE=image/jpeg:https://podemosleganes.es/wp-content/uploads/2025/11/previsiones-crecimiento.jpg
END:VEVENT
BEGIN:VEVENT
DTSTART;TZID=Europe/Madrid:20251124T180000
DTEND;TZID=Europe/Madrid:20251124T200000
DTSTAMP:20260425T154944
CREATED:20251122T133601Z
LAST-MODIFIED:20251122T133601Z
UID:337912-1764007200-1764014400@podemosleganes.es
SUMMARY:VIOLENCIA OBSTÉTRICA\, coloquio
DESCRIPTION:  \n \n  \nLa formación es clave en la lucha contra las #ViolenciasMachistas. Por ello\, te invitamos a nuestro acto en #Leganes.Un espacio para el debate con una experta\, Yolanda García Fernández\, donde abordaremos la #ViolenciaObstétrica. Una cita imprescindible. #25N \nhttps://x.com/PodemosLeganes/status/1992219400703741959?s=19 \n 
URL:https://podemosleganes.es/event/violencia-obstetrica-coloquio/
LOCATION:Sede Podemos Leganés\, Travesía de Madrid\, 4\, Leganés
CATEGORIES:25N,Podemos Leganés,Violencia de Género
ATTACH;FMTTYPE=image/jpeg:https://podemosleganes.es/wp-content/uploads/2025/11/25n-violencia-obst.jpg
END:VEVENT
END:VCALENDAR