BEGIN:VCALENDAR
VERSION:2.0
PRODID:-//Podemos Leganés - ECPv6.8.3//NONSGML v1.0//EN
CALSCALE:GREGORIAN
METHOD:PUBLISH
X-ORIGINAL-URL:https://podemosleganes.es
X-WR-CALDESC:Eventos para Podemos Leganés
REFRESH-INTERVAL;VALUE=DURATION:PT1H
X-Robots-Tag:noindex
X-PUBLISHED-TTL:PT1H
BEGIN:VTIMEZONE
TZID:Europe/Madrid
BEGIN:DAYLIGHT
TZOFFSETFROM:+0100
TZOFFSETTO:+0200
TZNAME:CEST
DTSTART:20240331T010000
END:DAYLIGHT
BEGIN:STANDARD
TZOFFSETFROM:+0200
TZOFFSETTO:+0100
TZNAME:CET
DTSTART:20241027T010000
END:STANDARD
END:VTIMEZONE
BEGIN:VEVENT
DTSTART;TZID=Europe/Madrid:20240930T183000
DTEND;TZID=Europe/Madrid:20240930T203000
DTSTAMP:20260424T180702
CREATED:20240929T113948Z
LAST-MODIFIED:20240929T113948Z
UID:337038-1727721000-1727728200@podemosleganes.es
SUMMARY:PLENARIO ORDINARIO
DESCRIPTION:Os recordamos la convocatoria al Plenario ordinario que celebraremos mañana\, lunes 30 de septiembre de 2024\, a las 18:30 horas en nuestra sede de 📍Travesía de Madrid 4.  \n  \n📄 Orden del día: \n  \n1. Aprobación de actas anteriores (15 de julio)* \n2. Programa de trabajo. \n3. Balance de la caseta de las fiestas de agosto y planificación de la caseta de las fiestas de San Nicasio. \n4. Información del comité de garantías  \n5. Varios. \n*Adjuntamos el borrador del acta pendiente para su lectura y revisión \n  \nDebido a la gran importancia de los temas a tratar\, se ruega la máxima asistencia. \n  \n¡Os esperamos!
URL:https://podemosleganes.es/event/plenario-ordinario-9/
LOCATION:Sede Podemos Leganés\, Travesía de Madrid\, 4\, Leganés
CATEGORIES:plenario,Podemos Leganés
ATTACH;FMTTYPE=image/jpeg:https://podemosleganes.es/wp-content/uploads/2024/09/plenario-30sep24.jpg
END:VEVENT
END:VCALENDAR