BEGIN:VCALENDAR
VERSION:2.0
PRODID:-//Podemos Leganés - ECPv6.8.3//NONSGML v1.0//EN
CALSCALE:GREGORIAN
METHOD:PUBLISH
X-ORIGINAL-URL:https://podemosleganes.es
X-WR-CALDESC:Eventos para Podemos Leganés
REFRESH-INTERVAL;VALUE=DURATION:PT1H
X-Robots-Tag:noindex
X-PUBLISHED-TTL:PT1H
BEGIN:VTIMEZONE
TZID:Europe/Madrid
BEGIN:DAYLIGHT
TZOFFSETFROM:+0100
TZOFFSETTO:+0200
TZNAME:CEST
DTSTART:20240331T010000
END:DAYLIGHT
BEGIN:STANDARD
TZOFFSETFROM:+0200
TZOFFSETTO:+0100
TZNAME:CET
DTSTART:20241027T010000
END:STANDARD
END:VTIMEZONE
BEGIN:VEVENT
DTSTART;TZID=Europe/Madrid:20240626T080000
DTEND;TZID=Europe/Madrid:20240701T123000
DTSTAMP:20260424T145945
CREATED:20240623T201501Z
LAST-MODIFIED:20240623T201501Z
UID:336912-1719388800-1719837000@podemosleganes.es
SUMMARY:CASETA EN LAS FIESTAS DE SAN FORTUNATO
DESCRIPTION:💜 Invitamos a todos l@s compañer@s a visitarnos en nuestra caseta\, en las Fiestas de San Fortunato\, del 27 al 30 de junio\, a partir de las 19 horas.\n🟣 Ubicación: Recinto Ferial de La Fortuna\n🚌 Buses interurbanos: 483\, 487\, 486\, L1\n⚠️ Metro: Línea 11 (Plaza Elíptica – La Fortuna) \n  \nSi deseas colaborar participando en la caseta\, inscríbete en este enlace: \nhttps://docs.google.com/spreadsheets/d/12SfZZup26IpGNqkAAZizZd6Pmhq-5RhCCYAC-e_0oww/edit?usp=sharing
URL:https://podemosleganes.es/event/caseta-en-las-fiestas-de-san-fortunato/
LOCATION:recinto ferial de La fortuna\, https://goo.gl/maps/89GXNqw4mhNVTwj8A\, Leganes\, madrid\, 28917\, España
CATEGORIES:Caseta,Fiestas Locales,Podemos Leganés
ATTACH;FMTTYPE=image/jpeg:https://podemosleganes.es/wp-content/uploads/2024/06/fiestas-de-san-fortunato-2024.jpg
END:VEVENT
BEGIN:VEVENT
DTSTART;TZID=Europe/Madrid:20240715T183000
DTEND;TZID=Europe/Madrid:20240715T203000
DTSTAMP:20260424T145945
CREATED:20240714T104140Z
LAST-MODIFIED:20240714T104140Z
UID:336945-1721068200-1721075400@podemosleganes.es
SUMMARY:PLENARIO ORDINARIO
DESCRIPTION:PLENARIO ORDINARIO \nOrden del día: \n\nAprobación de las actas anteriores.\nSituación del Grupo Municipal Podemos Leganés-IU-AV.\nResultados de la caseta de las fiestas de La Fortuna y organización de la caseta para agosto.\nVarios.\n\nDía:  lunes 15 de julio 2024 \nHora: 18:30 \nLugar: sede de Podemos Leganés
URL:https://podemosleganes.es/event/plenario-ordinario-8/
LOCATION:Sede Podemos Leganés\, Travesía de Madrid\, 4\, Leganés
CATEGORIES:plenario,Podemos Leganés
ATTACH;FMTTYPE=image/jpeg:https://podemosleganes.es/wp-content/uploads/2024/07/plen-15jul24.jpg
END:VEVENT
END:VCALENDAR