BEGIN:VCALENDAR
VERSION:2.0
PRODID:-//Podemos Leganés - ECPv6.8.3//NONSGML v1.0//EN
CALSCALE:GREGORIAN
METHOD:PUBLISH
X-ORIGINAL-URL:https://podemosleganes.es
X-WR-CALDESC:Eventos para Podemos Leganés
REFRESH-INTERVAL;VALUE=DURATION:PT1H
X-Robots-Tag:noindex
X-PUBLISHED-TTL:PT1H
BEGIN:VTIMEZONE
TZID:Europe/Madrid
BEGIN:DAYLIGHT
TZOFFSETFROM:+0100
TZOFFSETTO:+0200
TZNAME:CEST
DTSTART:20240331T010000
END:DAYLIGHT
BEGIN:STANDARD
TZOFFSETFROM:+0200
TZOFFSETTO:+0100
TZNAME:CET
DTSTART:20241027T010000
END:STANDARD
END:VTIMEZONE
BEGIN:VEVENT
DTSTART;TZID=Europe/Madrid:20240510T190000
DTEND;TZID=Europe/Madrid:20240510T210000
DTSTAMP:20260424T114715
CREATED:20240502T152127Z
LAST-MODIFIED:20240502T152127Z
UID:336717-1715367600-1715374800@podemosleganes.es
SUMMARY:Reinaguración del local de Podemos Leganés
DESCRIPTION:Este viernes 10 de abril\, después de medio año cerrado\, reinaguramos nuestro local.\nContaremos con la presencia de nuestra Portavoz autonómica Isa Serra y de otros miembros de la CCA. \nEsperamos contar con la participación de tod@s l@s compañer@s que han venido y vienen compartiendo este espacio político como verdadero instrumento de cambio social. Seguimos….
URL:https://podemosleganes.es/event/reinaguracion-del-local-de-podemos-leganes/
LOCATION:Sede Podemos Leganés\, Travesía de Madrid\, 4\, Leganés
CATEGORIES:blog,Podemos Leganés
ATTACH;FMTTYPE=image/jpeg:https://podemosleganes.es/wp-content/uploads/2024/05/reinaguracion.jpg
END:VEVENT
BEGIN:VEVENT
DTSTART;TZID=Europe/Madrid:20240516T180000
DTEND;TZID=Europe/Madrid:20240516T200000
DTSTAMP:20260424T114715
CREATED:20240515T213655Z
LAST-MODIFIED:20240515T213655Z
UID:336770-1715882400-1715889600@podemosleganes.es
SUMMARY:TALLER DE FUNCIONAMIENTO ELEMENTAL DE REDES SOCIALES
DESCRIPTION:Dirigido a tod@s l@s militantes e incrot@s en Podemos.\nOrientaremos en el funcionamiento e instalación de Whats app\, Telegram\, X\, Tic tok\, Instagram y facebook.\nUn taller sencillo\, para manejarnos de forma básica en las redes.
URL:https://podemosleganes.es/event/taller-de-funcionamiento-elemental-de-redes-sociales/
LOCATION:Sede Podemos Leganés\, Travesía de Madrid\, 4\, Leganés
CATEGORIES:Formación,Podemos Leganés,Talleres
ATTACH;FMTTYPE=image/jpeg:https://podemosleganes.es/wp-content/uploads/2024/05/taller-de-redes.jpg
END:VEVENT
BEGIN:VEVENT
DTSTART;TZID=Europe/Madrid:20240517T180000
DTEND;TZID=Europe/Madrid:20240517T200000
DTSTAMP:20260424T114715
CREATED:20240515T214356Z
LAST-MODIFIED:20240515T214602Z
UID:336772-1715968800-1715976000@podemosleganes.es
SUMMARY:MESA INFORMATIVA PARA QUE LA VIDA SEA
DESCRIPTION:Este viernes 17 de mayo sacamos nuevamente nuestra mesa\, para que los vecinos conozcan nuestras propuestas.\nFrente al Centro Municipal de Servicios Sociales Juan Muñoz\, de 18 a 20\, te esperamos para charlar y compartir. Seguimos…
URL:https://podemosleganes.es/event/mesa-informativa-para-que-la-vida-sea/
LOCATION:Centro Mucipal de Servicios Sociales Juan Muñoz\, C. Juan Muñoz\, 9\, 28911 Leganés\, Madrid\, Leganés\, Madrid\, España
CATEGORIES:Mesa Informativa,Podemos Leganés
ATTACH;FMTTYPE=image/png:https://podemosleganes.es/wp-content/uploads/2024/05/CARTEL-juan-munoz.png
END:VEVENT
BEGIN:VEVENT
DTSTART;TZID=Europe/Madrid:20240520T190000
DTEND;TZID=Europe/Madrid:20240520T210000
DTSTAMP:20260424T114715
CREATED:20240515T221209Z
LAST-MODIFIED:20240515T221209Z
UID:336774-1716231600-1716238800@podemosleganes.es
SUMMARY:ACTO POR LA PAZ
DESCRIPTION:Este lunes 20 de mayo en la Plaza de España\, tendremos un ACTO POR LA PAZ. Julio Rodriguez\, responsable de Paz y Seguridad en el CCA de Podemos Comunidad de Madrid\, nos hablará de la urgente necesidad de parar el genocidio contra Palestina\, los intereses de las potencias mundiales\, de geopolítica\, de cómo llegamos a esto. Tendremos también a dos periodistas de lujo. Laura Arroyo de Canal Red y Sara Plaza de El Salto. Periodistas que no renuncian a decir la verdad ni se doblegan ante el poder. Verlos y escucharlos juntos es impensable en los medios actuales. \n  \nhttps://x.com/PodemosLeganes/status/1790519427164987873 \n 
URL:https://podemosleganes.es/event/acto-por-la-paz/
LOCATION:Plaza España\, https://goo.gl/maps/XPzVJF16T9KyJU2HA\, Leganés\, Madrid\, 28911\, España
CATEGORIES:Acto,Paz,PODEMOS,Podemos Leganés
ATTACH;FMTTYPE=image/jpeg:https://podemosleganes.es/wp-content/uploads/2024/05/acto-por-la-paz.jpg
END:VEVENT
BEGIN:VEVENT
DTSTART;TZID=Europe/Madrid:20240529T190000
DTEND;TZID=Europe/Madrid:20240529T203000
DTSTAMP:20260424T114715
CREATED:20240527T215633Z
LAST-MODIFIED:20240527T215633Z
UID:336794-1717009200-1717014600@podemosleganes.es
SUMMARY:IRENE MONTERO e IONE BELARRA nos hablarán de Europa en Leganés
DESCRIPTION:El miércoles 29 de mayo tenemos acto con  @IreneMontero e @ionebelarra \n para hablar de Europa\, a las 19 horas en la plaza de la Fuente de la Luna esquina calle el Sol. \nhttps://x.com/PodemosLeganes/status/1795169734729543718?t=qqTJsu2tlsdvK90JxJu8Lw&s=08 \n 
URL:https://podemosleganes.es/event/irene-montero-e-ione-belarra-nos-hablaran-de-europa-en-leganes/
LOCATION:plaza de la luna
CATEGORIES:Campaña Electoral,evento político,Mesa Informativa,Podemos Leganés
ATTACH;FMTTYPE=image/jpeg:https://podemosleganes.es/wp-content/uploads/2024/05/ione-irene-29-05-leganes.jpg
END:VEVENT
BEGIN:VEVENT
DTSTART;TZID=Europe/Madrid:20240531T100000
DTEND;TZID=Europe/Madrid:20240531T133000
DTSTAMP:20260424T114715
CREATED:20240530T212525Z
LAST-MODIFIED:20240530T212525Z
UID:336813-1717149600-1717162200@podemosleganes.es
SUMMARY:Mesa informativa Mercadillo
DESCRIPTION:Mesa informativa Mercadillo \nhora: 10 a 13:30
URL:https://podemosleganes.es/event/mesa-informativa-mercadillo/
LOCATION:Madrid
CATEGORIES:Campaña Electoral,Podemos Leganés
ATTACH;FMTTYPE=image/jpeg:https://podemosleganes.es/wp-content/uploads/2024/05/photo_2024-05-30_20-35-40.jpg
END:VEVENT
BEGIN:VEVENT
DTSTART;TZID=Europe/Madrid:20240531T190000
DTEND;TZID=Europe/Madrid:20240531T210000
DTSTAMP:20260424T114715
CREATED:20240530T212816Z
LAST-MODIFIED:20240530T212816Z
UID:336815-1717182000-1717189200@podemosleganes.es
SUMMARY:Mesa informativa en La Fortuna
DESCRIPTION:hora: de 19 a 21 \nParque Serafín Díaz Antón
URL:https://podemosleganes.es/event/mesa-informativa-en-la-fortuna/
LOCATION:Madrid
CATEGORIES:Campaña Electoral,Mesa Informativa,Podemos Leganés
ATTACH;FMTTYPE=image/jpeg:https://podemosleganes.es/wp-content/uploads/2024/05/photo_2024-05-30_20-35-41.jpg
END:VEVENT
BEGIN:VEVENT
DTSTART;TZID=Europe/Madrid:20240531T190000
DTEND;TZID=Europe/Madrid:20240531T210000
DTSTAMP:20260424T114715
CREATED:20240530T213106Z
LAST-MODIFIED:20240530T213106Z
UID:336817-1717182000-1717189200@podemosleganes.es
SUMMARY:Caravana de coches por Leganés
DESCRIPTION:Hora: de 19 a 21 h. \nQuedada en la calle del Maestro.
URL:https://podemosleganes.es/event/caravana-de-coches-por-leganes/
LOCATION:Madrid
CATEGORIES:Campaña Electoral,Podemos Leganés
ATTACH;FMTTYPE=image/jpeg:https://podemosleganes.es/wp-content/uploads/2024/05/photo_2024-05-30_20-39-38.jpg
END:VEVENT
END:VCALENDAR