BEGIN:VCALENDAR
VERSION:2.0
PRODID:-//Podemos Leganés - ECPv6.8.3//NONSGML v1.0//EN
CALSCALE:GREGORIAN
METHOD:PUBLISH
X-WR-CALNAME:Podemos Leganés
X-ORIGINAL-URL:https://podemosleganes.es
X-WR-CALDESC:Eventos para Podemos Leganés
REFRESH-INTERVAL;VALUE=DURATION:PT1H
X-Robots-Tag:noindex
X-PUBLISHED-TTL:PT1H
BEGIN:VTIMEZONE
TZID:Europe/Madrid
BEGIN:DAYLIGHT
TZOFFSETFROM:+0100
TZOFFSETTO:+0200
TZNAME:CEST
DTSTART:20260329T010000
END:DAYLIGHT
BEGIN:STANDARD
TZOFFSETFROM:+0200
TZOFFSETTO:+0100
TZNAME:CET
DTSTART:20261025T010000
END:STANDARD
END:VTIMEZONE
BEGIN:VEVENT
DTSTART;TZID=Europe/Madrid:20260228T120000
DTEND;TZID=Europe/Madrid:20260228T133000
DTSTAMP:20260421T013352
CREATED:20260225T210148Z
LAST-MODIFIED:20260225T210148Z
UID:338063-1772280000-1772285400@podemosleganes.es
SUMMARY:JUSTICIA PARA PALESTINA mesa para recolección de firmas
DESCRIPTION:🔥 ¡BASTA DE COMPLICIDAD! 🔥\n📢 Este sábado 28\n📍 Plaza Fuente de la Luna\n🕛 12:00 h\n✊ Salimos a la calle para exigir justicia para Palestina. \n🚫 No al comercio con crímenes.\n🚫 No a la impunidad.\n🚫 No al silencio. \n💥 Es el momento de actuar.\n✍️ Firma la iniciativa.\n📣 Movilízate.\n¡Nos vemos en la plaza!  \n#JusticiaParaPalestina #FinALaComplicidad
URL:https://podemosleganes.es/event/justicia-para-palestina-mesa-para-recoleccion-de-firmas/
LOCATION:plaza de la luna
CATEGORIES:Alianza de Izquierda Europea,Mesa Informativa,Palestina,Podemos Leganés
ATTACH;FMTTYPE=image/jpeg:https://podemosleganes.es/wp-content/uploads/2026/02/firma-justicia-para-Palestina.jpeg
END:VEVENT
END:VCALENDAR