BEGIN:VCALENDAR
VERSION:2.0
PRODID:-//Podemos Leganés - ECPv6.8.3//NONSGML v1.0//EN
CALSCALE:GREGORIAN
METHOD:PUBLISH
X-ORIGINAL-URL:https://podemosleganes.es
X-WR-CALDESC:Eventos para Podemos Leganés
REFRESH-INTERVAL;VALUE=DURATION:PT1H
X-Robots-Tag:noindex
X-PUBLISHED-TTL:PT1H
BEGIN:VTIMEZONE
TZID:Europe/Madrid
BEGIN:DAYLIGHT
TZOFFSETFROM:+0100
TZOFFSETTO:+0200
TZNAME:CEST
DTSTART:20230326T010000
END:DAYLIGHT
BEGIN:STANDARD
TZOFFSETFROM:+0200
TZOFFSETTO:+0100
TZNAME:CET
DTSTART:20231029T010000
END:STANDARD
END:VTIMEZONE
BEGIN:VEVENT
DTSTART;TZID=Europe/Madrid:20230202T100000
DTEND;TZID=Europe/Madrid:20230202T120000
DTSTAMP:20260421T051945
CREATED:20230129T213134Z
LAST-MODIFIED:20230302T223237Z
UID:335721-1675332000-1675339200@podemosleganes.es
SUMMARY:Mesa Informativa en el Centro Municipal Juan Muñoz
DESCRIPTION:Este jueves 2 de febrero continuamos informando a nuestros vecinos de la situación de los servicios sociales en Leganés. También les mostramos nuestras propuestas para nuestra ciudad. Será en las inmediaciones del Centro Municipal de Servicios Sociales Juan Muñoz\, de 10am a 12.
URL:https://podemosleganes.es/event/mesa-informativa-en-el-centro-municipal-juan-munoz/
LOCATION:Centro Mucipal de Servicios Sociales Juan Muñoz\, C. Juan Muñoz\, 9\, 28911 Leganés\, Madrid\, Leganés\, Madrid\, España
CATEGORIES:Eventos,Mesa Informativa
ATTACH;FMTTYPE=image/jpeg:https://podemosleganes.es/wp-content/uploads/2023/02/mesa-en-Juan-Munoz-2-2-23.jpg
END:VEVENT
BEGIN:VEVENT
DTSTART;TZID=Europe/Madrid:20230209T170000
DTEND;TZID=Europe/Madrid:20230209T190000
DTSTAMP:20260421T051945
CREATED:20230208T232247Z
LAST-MODIFIED:20230210T233831Z
UID:335774-1675962000-1675969200@podemosleganes.es
SUMMARY:MESA INFORMATIVA CENTRO DE MAYORES DE LA COMUNIDAD DE MADRID
DESCRIPTION:Este jueves 9 estaremos en los Centros de Mayores de la Comunidad de Madrid : el de la Avda. del Mediterráneo s.n. y el de la Avda. La Mancha 33.
URL:https://podemosleganes.es/event/mesa-informativa-centro-de-mayores-av-del-mediterraneo-y-av-la-mancha-33/
CATEGORIES:Mesa Informativa
ATTACH;FMTTYPE=image/jpeg:https://podemosleganes.es/wp-content/uploads/2023/02/2023-02-11-00.37.16.jpg
END:VEVENT
BEGIN:VEVENT
DTSTART;TZID=Europe/Madrid:20230210T113000
DTEND;TZID=Europe/Madrid:20230210T133000
DTSTAMP:20260421T051945
CREATED:20230208T232923Z
LAST-MODIFIED:20230210T233452Z
UID:335776-1676028600-1676035800@podemosleganes.es
SUMMARY:MESAS INFORMATIVAS EN CENTROS DE MAYORES DEL AYUNTAMIENTO
DESCRIPTION:Viernes 10 en los Centros de Mayores del Ayuntamiento de Leganés: en el Rosa de Luxenburgo (calle el Charco 23) y en la calle Mayorazgo 25.  Estaremos de 11:30 a 13:30
URL:https://podemosleganes.es/event/mesas-informativas-en-centros-de-mayores-del-ayuntamiento/
CATEGORIES:Mesa Informativa
ATTACH;FMTTYPE=image/jpeg:https://podemosleganes.es/wp-content/uploads/2023/02/2023-02-11-00.33.45.jpg
END:VEVENT
BEGIN:VEVENT
DTSTART;TZID=Europe/Madrid:20230211T113000
DTEND;TZID=Europe/Madrid:20230211T133000
DTSTAMP:20260421T051945
CREATED:20230208T233318Z
LAST-MODIFIED:20230208T233318Z
UID:335778-1676115000-1676122200@podemosleganes.es
SUMMARY:MESA INFORMATIVA EN VITALIA
DESCRIPTION:Este sábado estaremos en las inmediaciones de la residencia de ancianos VITALIA (Av. de María Moliner/) de 11:30 a 13:30
URL:https://podemosleganes.es/event/mesa-informativa-en-vitalia/
CATEGORIES:Mesa Informativa
ATTACH;FMTTYPE=image/jpeg:https://podemosleganes.es/wp-content/uploads/2023/02/Pedroches-2-2-23.jpeg
END:VEVENT
BEGIN:VEVENT
DTSTART;TZID=Europe/Madrid:20230217T103000
DTEND;TZID=Europe/Madrid:20230217T130000
DTSTAMP:20260421T051945
CREATED:20230215T224705Z
LAST-MODIFIED:20230215T224705Z
UID:335811-1676629800-1676638800@podemosleganes.es
SUMMARY:Mesa Informativa sobre Servicios Públicos
DESCRIPTION:Este viernes 17 de febrero\, continuaremos informando a nuestras vecinas y vecinos sobre la situación de Leganés y sobre nuestras propuestas para gobernar en este Ayuntamiento.  Esta vez tocamos el tema de los “servicios públicos”\, que están directamente ligados al día a día de nuestra querida ciudad. Estaremos en las inmediaciones de la Casa del Reloj de 10\,30 a 13 horas. Os esperamos para charlar y compartir.
URL:https://podemosleganes.es/event/mesa-informativa-sobre-servicios-publicos/
CATEGORIES:Eventos,Mesa Informativa,Podemos Leganés
ATTACH;FMTTYPE=image/jpeg:https://podemosleganes.es/wp-content/uploads/2023/02/IMAGE-2023-02-15-233204.jpg
END:VEVENT
BEGIN:VEVENT
DTSTART;TZID=Europe/Madrid:20230223T110000
DTEND;TZID=Europe/Madrid:20230223T133000
DTSTAMP:20260421T051945
CREATED:20230222T165813Z
LAST-MODIFIED:20230222T165928Z
UID:335832-1677150000-1677159000@podemosleganes.es
SUMMARY:MESA INFORMATIVA SOBRE EDUCACIÓN
DESCRIPTION:Este jueves 23 pondremos mesa informativa sobre Educación en la Plaza de los Gatos (Zarzaquemada) al lado de la Escuela Infantil El Rincón\, a partir de las 11 a.m. hasta las 13:30. Os esperamos para informar a nuestros vecinos.
URL:https://podemosleganes.es/event/mesa-informativa-sobre-educacion/
CATEGORIES:Mesa Informativa
END:VEVENT
END:VCALENDAR