BEGIN:VCALENDAR
VERSION:2.0
PRODID:-//Podemos Leganés - ECPv6.8.3//NONSGML v1.0//EN
CALSCALE:GREGORIAN
METHOD:PUBLISH
X-WR-CALNAME:Podemos Leganés
X-ORIGINAL-URL:https://podemosleganes.es
X-WR-CALDESC:Eventos para Podemos Leganés
REFRESH-INTERVAL;VALUE=DURATION:PT1H
X-Robots-Tag:noindex
X-PUBLISHED-TTL:PT1H
BEGIN:VTIMEZONE
TZID:Europe/Madrid
BEGIN:DAYLIGHT
TZOFFSETFROM:+0100
TZOFFSETTO:+0200
TZNAME:CEST
DTSTART:20250330T010000
END:DAYLIGHT
BEGIN:STANDARD
TZOFFSETFROM:+0200
TZOFFSETTO:+0100
TZNAME:CET
DTSTART:20251026T010000
END:STANDARD
END:VTIMEZONE
BEGIN:VEVENT
DTSTART;TZID=Europe/Madrid:20250614T113000
DTEND;TZID=Europe/Madrid:20250614T133000
DTSTAMP:20260424T143058
CREATED:20250613T215432Z
LAST-MODIFIED:20250613T215432Z
UID:337626-1749900600-1749907800@podemosleganes.es
SUMMARY:PODEMOS Y LOS MOVIMIENTOS SOCIALES formación
DESCRIPTION:PODEMOS Y LOS MOVIMIENTOS SOCIALES\nÁrea de Formación de Podemos CM\ndía sábado 14 de junio a 11:30h\nlocal Podemos Leganés\, Travesía de Madrid 4\, Leganés
URL:https://podemosleganes.es/event/podemos-y-los-movimientos-sociales-formacion/
LOCATION:Sede Podemos Leganés\, Travesía de Madrid\, 4\, Leganés
CATEGORIES:Formación,Podemos CM,Podemos Leganés
ATTACH;FMTTYPE=image/jpeg:https://podemosleganes.es/wp-content/uploads/2025/06/mov-sociales.jpg
END:VEVENT
BEGIN:VEVENT
DTSTART;TZID=Europe/Madrid:20250618T183000
DTEND;TZID=Europe/Madrid:20250618T223000
DTSTAMP:20260424T143058
CREATED:20250502T121354Z
LAST-MODIFIED:20250613T214122Z
UID:337505-1750271400-1750285800@podemosleganes.es
SUMMARY:LEGANÉS EN LOS ALBORES DE LA DEMOCRACIA (Jornadas de Historia)
DESCRIPTION:¡Seguimos con nuestras jornadas sobre la historia de Leganés!\n🗓 miércoles 18 de junio\n🕞18:30\n📍 Travesía de Madrid 4\, Leganés\n🟣 Te invitamos a una charla imprescindible: “Leganés en los albores de la democracia”\n¡Te esperamos!\n#MemoriaHistórica #HistoriaLocal \n 
URL:https://podemosleganes.es/event/leganes-en-los-albores-de-la-democracia-jornadas-de-historia/
LOCATION:Sede Podemos Leganés\, Travesía de Madrid\, 4\, Leganés
CATEGORIES:Actividad Cultural,blog,Formación,Jornadas La historia de Leganés
ATTACH;FMTTYPE=image/png:https://podemosleganes.es/wp-content/uploads/2025/05/jornadas-Albores-de-la-Democracia.png
END:VEVENT
BEGIN:VEVENT
DTSTART;TZID=Europe/Madrid:20250625T183000
DTEND;TZID=Europe/Madrid:20250625T203000
DTSTAMP:20260424T143058
CREATED:20250613T220016Z
LAST-MODIFIED:20250613T220016Z
UID:337629-1750876200-1750883400@podemosleganes.es
SUMMARY:FORMACIÓN EN RRSS
DESCRIPTION:Continuamos con la formación en RRSS para romper el bloque de poder de la derecha\nMiércoles día 25\nHora 18:30\nDonde:\nTravesía de Madrid N4 (sede Podemos Leganés)\nLocal accesible (baño no) \nCosas que hay que saber:\nEl curso es práctico y dura unas 2h dependiendo de las dudas\, es de iniciación a Instagram y tiktok y os explicaremos como funciona cada plataforma y los trucos que hay para llegar a más gente \nNECESITAREIS:c\n-Móvil cargado y con Internet \n-Tener instalado instagram y tiktok  \n-Tener una cuenta propia vuestra en ambas RRSS (no vale la cuenta de un circulo) \nEsto es muy importante y agilizará el curso\, es fácil de hacer desde la playstore y siguiendo los pasos
URL:https://podemosleganes.es/event/formacion-en-rrss/
LOCATION:Sede Podemos Leganés\, Travesía de Madrid\, 4\, Leganés
CATEGORIES:Formación,Podemos CM,Podemos Leganés
ATTACH;FMTTYPE=image/jpeg:https://podemosleganes.es/wp-content/uploads/2025/06/taller-de-redes.jpg
END:VEVENT
END:VCALENDAR