BEGIN:VCALENDAR
VERSION:2.0
PRODID:-//Podemos Leganés - ECPv6.8.3//NONSGML v1.0//EN
CALSCALE:GREGORIAN
METHOD:PUBLISH
X-ORIGINAL-URL:https://podemosleganes.es
X-WR-CALDESC:Eventos para Podemos Leganés
REFRESH-INTERVAL;VALUE=DURATION:PT1H
X-Robots-Tag:noindex
X-PUBLISHED-TTL:PT1H
BEGIN:VTIMEZONE
TZID:Europe/Madrid
BEGIN:DAYLIGHT
TZOFFSETFROM:+0100
TZOFFSETTO:+0200
TZNAME:CEST
DTSTART:20260329T010000
END:DAYLIGHT
BEGIN:STANDARD
TZOFFSETFROM:+0200
TZOFFSETTO:+0100
TZNAME:CET
DTSTART:20261025T010000
END:STANDARD
END:VTIMEZONE
BEGIN:VEVENT
DTSTART;TZID=Europe/Madrid:20260220T190000
DTEND;TZID=Europe/Madrid:20260220T210000
DTSTAMP:20260420T044118
CREATED:20260216T201113Z
LAST-MODIFIED:20260216T201113Z
UID:338054-1771614000-1771621200@podemosleganes.es
SUMMARY:ESTO NO ES UNA GUERRA\, presentación del libro
DESCRIPTION:📖 Presentación del libro “Esto no es una guerra”\nFeminismos insumisos frente al rearme y al genocidio\n👥Intervienen Isa Serra e Irene Zugasti. \nUn espacio de reflexión y debate en torno a los desafíos actuales\, el contexto internacional y las aportaciones del feminismo frente a la escalada armamentística. \n🗓 20 de febrero\n🕖 19:00 h\n📍 La Libre de Barrio\nC/ Villaverde\, 4 – Leganés \nEntrada libre hasta completar aforo.
URL:https://podemosleganes.es/event/esto-no-es-una-guerra-presentacion-del-libro/
LOCATION:La Libre de Barrio\, c/ Villaverde 4\, Leganés\, Madrid\, 28912\, Spain
CATEGORIES:Cultural,Feminismo,Feminismo Insumiso,Paz
ATTACH;FMTTYPE=image/jpeg:https://podemosleganes.es/wp-content/uploads/2026/02/esto-no-es-una-guerra.jpeg
END:VEVENT
END:VCALENDAR