BEGIN:VCALENDAR
VERSION:2.0
PRODID:-//Podemos Leganés - ECPv6.8.3//NONSGML v1.0//EN
CALSCALE:GREGORIAN
METHOD:PUBLISH
X-ORIGINAL-URL:https://podemosleganes.es
X-WR-CALDESC:Eventos para Podemos Leganés
REFRESH-INTERVAL;VALUE=DURATION:PT1H
X-Robots-Tag:noindex
X-PUBLISHED-TTL:PT1H
BEGIN:VTIMEZONE
TZID:Europe/Madrid
BEGIN:DAYLIGHT
TZOFFSETFROM:+0100
TZOFFSETTO:+0200
TZNAME:CEST
DTSTART:20230326T010000
END:DAYLIGHT
BEGIN:STANDARD
TZOFFSETFROM:+0200
TZOFFSETTO:+0100
TZNAME:CET
DTSTART:20231029T010000
END:STANDARD
END:VTIMEZONE
BEGIN:VEVENT
DTSTART;TZID=Europe/Madrid:20230706T183000
DTEND;TZID=Europe/Madrid:20230706T203000
DTSTAMP:20260424T224155
CREATED:20230702T211839Z
LAST-MODIFIED:20230702T211839Z
UID:336108-1688668200-1688675400@podemosleganes.es
SUMMARY:PLENARIO ORDINARIO
DESCRIPTION:💜❤️💜 Estimad@s compañeras\, compañeros\nOs convocamos al Plenario Ordinario el próximo jueves día 6 de Julio a las 18:30 horas en nuestra sede. ( Travesía de Madrid 4).\nDebido a la importancia de los temas a tratar\, se ruega la máxima asistencia\, ya sea presencial o telemática. \nOs pondremos un enlace de Zoom en los chat de Podemos Leganés ese día.\nSeguimos \nPortavoz de Podemos Leganés. \nOrden del día: \n1. Aprobación de las actas anteriores.\n2. A solicitud de un militante: Informe del estado económico actual de Podemos Leganés\, después del 28M.\n3. Información sobre la Asamblea del 5 de julio\, citada por nuestra Ione Belarra.\n4. Información sobre las reuniones con militantes de otros círculos.\n5. Decisiones a tomar sobre el auxiliar o consejero del Grupo Municipal.\n6. Campaña del 23J\n7. Varios \n 
URL:https://podemosleganes.es/event/plenario-ordinario-4/
LOCATION:Sede Podemos Leganés\, Travesía de Madrid\, 4\, Leganés
CATEGORIES:Asamblea,plenario,Podemos Leganés
ATTACH;FMTTYPE=image/png:https://podemosleganes.es/wp-content/uploads/2023/07/plenario-julio-2023.png
END:VEVENT
END:VCALENDAR