BEGIN:VCALENDAR
VERSION:2.0
PRODID:-//Podemos Leganés - ECPv6.8.3//NONSGML v1.0//EN
CALSCALE:GREGORIAN
METHOD:PUBLISH
X-ORIGINAL-URL:https://podemosleganes.es
X-WR-CALDESC:Eventos para Podemos Leganés
REFRESH-INTERVAL;VALUE=DURATION:PT1H
X-Robots-Tag:noindex
X-PUBLISHED-TTL:PT1H
BEGIN:VTIMEZONE
TZID:Europe/Madrid
BEGIN:DAYLIGHT
TZOFFSETFROM:+0100
TZOFFSETTO:+0200
TZNAME:CEST
DTSTART:20220327T010000
END:DAYLIGHT
BEGIN:STANDARD
TZOFFSETFROM:+0200
TZOFFSETTO:+0100
TZNAME:CET
DTSTART:20221030T010000
END:STANDARD
END:VTIMEZONE
BEGIN:VEVENT
DTSTART;TZID=Europe/Madrid:20220325T180000
DTEND;TZID=Europe/Madrid:20220325T180000
DTSTAMP:20260424T174812
CREATED:20220318T183530Z
LAST-MODIFIED:20220318T183530Z
UID:334224-1648231200-1648231200@podemosleganes.es
SUMMARY:ACTO ALMUDENA SIEMPRE
DESCRIPTION:“ACTO ALMUDENA SIEMPRE”
URL:https://podemosleganes.es/event/acto-almudena-siempre/
LOCATION:DeJovenes\, Pl. de España\, 1\, Leganes\, Madrid\, 28911\, España
END:VEVENT
END:VCALENDAR